BEGIN:VCALENDAR
VERSION:2.0
PRODID:Events Booking
BEGIN:VEVENT
UID:69e617c5e76e5
SUMMARY:PADI Open Water Diver (vakantiecursus)  Heerenveen   (37)
DESCRIPTION:
LOCATION:Sportstad Heerenveen\, Abe Lenstra boulevard\, Heerenveen\, Friesl
 and\, Nederland\, 8448 JA\, Nederland
DTSTART:20260901T174500Z
DTEND:20260901T200000Z
DTSTAMP:20260407T074625Z
ORGANIZER;CN=Info | Moby Dick:MAILTO:info@mijn-mobydick.nl
GEO:52.957222;5.936672
X-APPLE-STRUCTURED-LOCATION;VALUE=URI;X-ADDRESS=Sportstad Heerenveen\, Abe 
 Lenstra boulevard\, Heerenveen\, Friesland\, Nederland\, 8448 JA\, Nederla
 nd;X-APPLE-RADIUS=72;X-TITLE=Heerenveen:52.957222;5.936672
END:VEVENT
END:VCALENDAR