BEGIN:VCALENDAR
VERSION:2.0
PRODID:Events Booking
BEGIN:VEVENT
UID:69ea6d3517a91
SUMMARY:Introductieduik (DSD)  Sneek   
DESCRIPTION:
LOCATION: Burg. De Hooppark 4a Sneek
DTSTART:20240121T130000Z
DTEND:20240121T150000Z
DTSTAMP:20260423T150421Z
ORGANIZER;CN=Info | Moby Dick:MAILTO:info@mijn-mobydick.nl
GEO:53.034372;5.673748
X-APPLE-STRUCTURED-LOCATION;VALUE=URI;X-ADDRESS= Burg. De Hooppark 4a Sneek
 ;X-APPLE-RADIUS=72;X-TITLE=Sneek Clubhuis:53.034372;5.673748
END:VEVENT
END:VCALENDAR