BEGIN:VCALENDAR
VERSION:2.0
PRODID:Events Booking
BEGIN:VEVENT
UID:69e7a40a133d2
SUMMARY:Hurghada 21 mei 2026
DESCRIPTION:----------&gt\;  VOL  &lt\;--------Je kan nog mee met het dui
 ken\, maar moet je zelf de reis en hotel boekenWe verblijven in Arabella A
 zur in Hurghada Zie verder de optie bij inschrijven !!
DTSTART:20260520T220000Z
DTEND:20260527T220000Z
DTSTAMP:20251122T114907Z
ORGANIZER;CN=Info | Moby Dick:MAILTO:info@mijn-mobydick.nl
END:VEVENT
END:VCALENDAR