BEGIN:VCALENDAR
VERSION:2.0
PRODID:Events Booking
BEGIN:VEVENT
UID:69e7a40b0b038
SUMMARY:Egypte Liveaboard  Noord route  november 2026
DESCRIPTION:
DTSTART:20261030T230000Z
DTEND:20261106T230000Z
DTSTAMP:20251122T114551Z
ORGANIZER;CN=Info | Moby Dick:MAILTO:info@mijn-mobydick.nl
END:VEVENT
END:VCALENDAR